BEGIN:VCALENDAR
CALSCALE:GREGORIAN
X-WR-TIMEZONE;VALUE=TEXT:GMT
PRODID:PEAK Corporation - piCal -
X-WR-CALNAME;VALUE=TEXT:アユ放流第１回目
VERSION:2.0
METHOD:PUBLISH
BEGIN:VTIMEZONE
TZID:GMT
BEGIN:STANDARD
DTSTART:19390101T000000
TZOFFSETFROM:+0000
TZOFFSETTO:+0000
TZNAME:GMT
END:STANDARD
END:VTIMEZONE
BEGIN:VEVENT
DTSTART:20090514T000000Z
DTEND:20090514T080000Z
LOCATION:おとりセンター付近
TRANSP:OPAQUE
SEQUENCE:0
UID:pical060-32d86c85bce7b99cc0c9a8507becfcc0
DTSTAMP:20090515T065637Z
CATEGORIES:
DESCRIPTION:
SUMMARY:アユ放流第１回目
PRIORITY:0
CLASS:PUBLIC
END:VEVENT
END:VCALENDAR
