BEGIN:VCALENDAR
CALSCALE:GREGORIAN
X-WR-TIMEZONE;VALUE=TEXT:GMT
PRODID:PEAK Corporation - piCal -
X-WR-CALNAME;VALUE=TEXT:奈良井川清流釣り会
VERSION:2.0
METHOD:PUBLISH
BEGIN:VTIMEZONE
TZID:GMT
BEGIN:STANDARD
DTSTART:19390101T000000
TZOFFSETFROM:+0000
TZOFFSETTO:+0000
TZNAME:GMT
END:STANDARD
END:VTIMEZONE
BEGIN:VEVENT
DTSTART:20100501T223000Z
DTEND:20100503T060000Z
LOCATION:アユおとりセンター付近
TRANSP:OPAQUE
SEQUENCE:0
UID:pical060-c62df13b4afd59c44d234eea0d85dabd
DTSTAMP:20100409T010508Z
CATEGORIES:
DESCRIPTION:　奈良井川に魚を戻す会の主催にて釣り会が行われます。
SUMMARY:奈良井川清流釣り会
PRIORITY:0
CLASS:PUBLIC
END:VEVENT
END:VCALENDAR
