BEGIN:VCALENDAR
CALSCALE:GREGORIAN
X-WR-TIMEZONE;VALUE=TEXT:GMT
PRODID:PEAK Corporation - piCal -
X-WR-CALNAME;VALUE=TEXT:理事会
VERSION:2.0
METHOD:PUBLISH
BEGIN:VTIMEZONE
TZID:GMT
BEGIN:STANDARD
DTSTART:19390101T000000
TZOFFSETFROM:+0000
TZOFFSETTO:+0000
TZNAME:GMT
END:STANDARD
END:VTIMEZONE
BEGIN:VEVENT
DTSTART:20121122T043000Z
DTEND:20121122T080000Z
LOCATION:組合事務所
TRANSP:OPAQUE
SEQUENCE:0
UID:pical060-516efa70d4366e58c7ff27fa2076cab1
DTSTAMP:20121114T052728Z
CATEGORIES:
DESCRIPTION:
SUMMARY:理事会
PRIORITY:0
CLASS:PUBLIC
END:VEVENT
END:VCALENDAR
