BEGIN:VCALENDAR
CALSCALE:GREGORIAN
X-WR-TIMEZONE;VALUE=TEXT:GMT
PRODID:PEAK Corporation - piCal -
X-WR-CALNAME;VALUE=TEXT:平成２４年度決算監査
VERSION:2.0
METHOD:PUBLISH
BEGIN:VTIMEZONE
TZID:GMT
BEGIN:STANDARD
DTSTART:19390101T000000
TZOFFSETFROM:+0000
TZOFFSETTO:+0000
TZNAME:GMT
END:STANDARD
END:VTIMEZONE
BEGIN:VEVENT
DTSTART:20130416T043000Z
DTEND:20130416T080000Z
LOCATION:組合事務所
TRANSP:OPAQUE
SEQUENCE:0
UID:pical060-08faa013928ae5bd2adcf666389400b5
DTSTAMP:20130404T061505Z
CATEGORIES:
DESCRIPTION:平成２４年度の決算監査を実施します。
SUMMARY:平成２４年度決算監査
PRIORITY:0
CLASS:PUBLIC
END:VEVENT
END:VCALENDAR
