BEGIN:VCALENDAR
CALSCALE:GREGORIAN
X-WR-TIMEZONE;VALUE=TEXT:GMT
PRODID:PEAK Corporation - piCal -
X-WR-CALNAME;VALUE=TEXT:奈良井川河川清掃の実施
VERSION:2.0
METHOD:PUBLISH
BEGIN:VTIMEZONE
TZID:GMT
BEGIN:STANDARD
DTSTART:19390101T000000
TZOFFSETFROM:+0000
TZOFFSETTO:+0000
TZNAME:GMT
END:STANDARD
END:VTIMEZONE
BEGIN:VEVENT
DTSTART:20131109T010000Z
DTEND:20131109T023000Z
LOCATION:塩尻市リバーサイド堅石公園
TRANSP:OPAQUE
SEQUENCE:0
UID:pical060-7dabe646738d7ce0a31bee4b9840bfc5
DTSTAMP:20131107T065030Z
CATEGORIES:
DESCRIPTION:松塩水道用水管理事務所の主催で、河川清掃が実施されます。奈良井川漁業協同組合では、役員を中心に参加をし、河川の美化に努めてまいります。身近な奈良井川の河川清掃に組合員のご協力お願いいたします。
SUMMARY:奈良井川河川清掃の実施
PRIORITY:0
CLASS:PUBLIC
END:VEVENT
END:VCALENDAR
