BEGIN:VCALENDAR
CALSCALE:GREGORIAN
X-WR-TIMEZONE;VALUE=TEXT:GMT
PRODID:PEAK Corporation - piCal -
X-WR-CALNAME;VALUE=TEXT:ヤマメの放流
VERSION:2.0
METHOD:PUBLISH
BEGIN:VTIMEZONE
TZID:GMT
BEGIN:STANDARD
DTSTART:19390101T000000
TZOFFSETFROM:+0000
TZOFFSETTO:+0000
TZNAME:GMT
END:STANDARD
END:VTIMEZONE
BEGIN:VEVENT
DTSTART:20150228T050000Z
DTEND:20150228T080000Z
LOCATION:奈良井川　鎖川
TRANSP:OPAQUE
SEQUENCE:0
UID:pical060-2749d0890f6b8481ef0f3680b047a1fb
DTSTAMP:20150225T035555Z
CATEGORIES:
DESCRIPTION:
SUMMARY:ヤマメの放流
PRIORITY:0
CLASS:PUBLIC
END:VEVENT
END:VCALENDAR
