BEGIN:VCALENDAR
CALSCALE:GREGORIAN
X-WR-TIMEZONE;VALUE=TEXT:GMT
PRODID:PEAK Corporation - piCal -
X-WR-CALNAME;VALUE=TEXT:オトリセンター
VERSION:2.0
METHOD:PUBLISH
BEGIN:VTIMEZONE
TZID:GMT
BEGIN:STANDARD
DTSTART:19390101T000000
TZOFFSETFROM:+0000
TZOFFSETTO:+0000
TZNAME:GMT
END:STANDARD
END:VTIMEZONE
BEGIN:VEVENT
DTSTART:20150618T043000Z
DTEND:20150618T080000Z
LOCATION:オトリセンター
TRANSP:OPAQUE
SEQUENCE:0
UID:pical060-a498680ca9e58045b5d88fc3e4970eac
DTSTAMP:20150617T003238Z
CATEGORIES:
DESCRIPTION:６月２７日のアユ漁解禁に向けて、オトリセンターの開所準備を役員等で行います。
SUMMARY:オトリセンター
PRIORITY:0
CLASS:PUBLIC
END:VEVENT
END:VCALENDAR
