BEGIN:VCALENDAR
CALSCALE:GREGORIAN
X-WR-TIMEZONE;VALUE=TEXT:GMT
PRODID:PEAK Corporation - piCal -
X-WR-CALNAME;VALUE=TEXT:監視委員会
VERSION:2.0
METHOD:PUBLISH
BEGIN:VTIMEZONE
TZID:GMT
BEGIN:STANDARD
DTSTART:19390101T000000
TZOFFSETFROM:+0000
TZOFFSETTO:+0000
TZNAME:GMT
END:STANDARD
END:VTIMEZONE
BEGIN:VEVENT
DTSTART:20150619T083000Z
DTEND:20150619T100000Z
LOCATION:奈良井川漁協事務所
TRANSP:OPAQUE
SEQUENCE:0
UID:pical060-720cdf38a2dc25bedef1a43dc175f36d
DTSTAMP:20150617T003416Z
CATEGORIES:
DESCRIPTION:　アユ漁解禁に向けての監視活動などの打ち合わせを行います。
SUMMARY:監視委員会
PRIORITY:0
CLASS:PUBLIC
END:VEVENT
END:VCALENDAR
