BEGIN:VCALENDAR
CALSCALE:GREGORIAN
X-WR-TIMEZONE;VALUE=TEXT:GMT
PRODID:PEAK Corporation - piCal -
X-WR-CALNAME;VALUE=TEXT:松塩水道用水主催ヤマメの稚魚放流体験
VERSION:2.0
METHOD:PUBLISH
BEGIN:VTIMEZONE
TZID:GMT
BEGIN:STANDARD
DTSTART:19390101T000000
TZOFFSETFROM:+0000
TZOFFSETTO:+0000
TZNAME:GMT
END:STANDARD
END:VTIMEZONE
BEGIN:VEVENT
DTSTART:20150622T013000Z
DTEND:20150622T030000Z
LOCATION:桔梗大橋下流左岸
TRANSP:OPAQUE
SEQUENCE:0
UID:pical060-7105f12833d4bbcff0dd2d6b7d176940
DTSTAMP:20150617T004055Z
CATEGORIES:
DESCRIPTION:洗馬小学校４年生による放流体験と、河川環境などの勉強が行われます。
SUMMARY:松塩水道用水主催ヤマメの稚魚放流体験
PRIORITY:0
CLASS:PUBLIC
END:VEVENT
END:VCALENDAR
